BEGIN:VCALENDAR
VERSION:2.0
PRODID:-//Luum - ECPv6.15.17.1//NONSGML v1.0//EN
CALSCALE:GREGORIAN
METHOD:PUBLISH
X-WR-CALNAME:Luum
X-ORIGINAL-URL:https://luumevents.de
X-WR-CALDESC:Veranstaltungen für Luum
REFRESH-INTERVAL;VALUE=DURATION:PT1H
X-Robots-Tag:noindex
X-PUBLISHED-TTL:PT1H
BEGIN:VTIMEZONE
TZID:UTC
BEGIN:STANDARD
TZOFFSETFROM:+0000
TZOFFSETTO:+0000
TZNAME:UTC
DTSTART:20240101T000000
END:STANDARD
END:VTIMEZONE
BEGIN:VEVENT
DTSTART;TZID=UTC:20250830T170000
DTEND;TZID=UTC:20250830T233000
DTSTAMP:20260421T230623
CREATED:20250804T165712Z
LAST-MODIFIED:20250805T081034Z
UID:187-1756573200-1756596600@luumevents.de
SUMMARY:LuumEvent
DESCRIPTION:Hinweis zum Einlass und zu den Teilnahmebedingungen:\nDer Zutritt zur Veranstaltung ist ausschließlich Personen ab 21 Jahren gestattet. Einlass erfolgt nur gegen Vorlage eines gültigen\, physischen Lichtbildausweises (Personalausweis\, Reisepass oder Führerschein)\, der das Alter eindeutig bestätigt.\nGemäß den Allgemeinen Geschäftsbedingungen (AGB) wird der Ticketpreis im Falle einer Absage des Events\, beispielsweise aufgrund von schlechter Witterung\, vollständig rückerstattet. \nDes Weiteren behalten wir uns ausdrücklich das Recht vor\, Personen den Zutritt zu verweigern\, die sich nicht an den kommunizierten Dresscode halten. \nEine Erstattung des Ticketpreises bei Nichteinlass ist ausgeschlossen. \nGemäß § 19 UStG wird keine Umsatzsteuer berechnet.
URL:https://luumevents.de/event/landxluum/
LOCATION:L‘And Weinbar\, Mary-Somerville-Platz 5\, Heidelberg\, Baden-Württemberg\, 69124\, Germany
ATTACH;FMTTYPE=image/jpeg:https://luumevents.de/wp-content/uploads/2025/07/pexels-maumascaro-801863-scaled.jpg
ORGANIZER;CN="LuumEvents":MAILTO:info@luumevents.de
END:VEVENT
END:VCALENDAR